BEGIN:VCALENDAR
VERSION:2.0
PRODID:icalendar-ruby
CALSCALE:GREGORIAN
METHOD:PUBLISH
BEGIN:VEVENT
DTSTAMP:20260424T205204Z
UID:6-1841363@rhemavalleyfamilychurch.org
DTSTART:20251214T183000Z
DTEND:20251214T193000Z
CLASS:PUBLIC
CREATED:20260424T122404
DESCRIPTION:
LAST-MODIFIED:20260424T122404
LOCATION:
SUMMARY:Sunday Morning Celebration Service
URL;VALUE=URI:https://www.rhemavalleyfamilychurch.org/events/sunday-morning
 -celebration-service/2025-12-14
ATTACH;FILENAME=Hands raised.jpg;FMTTYPE=image/jpeg:https://dq5pwpg1q8ru0.c
 loudfront.net/2020/05/29/09/03/58/b20172d9-4f33-4559-8ef0-47b8e48bfd31/Han
 ds%20raised.jpg
END:VEVENT
END:VCALENDAR
